BEGIN:VCALENDAR
VERSION:2.0
METHOD:PUBLISH
BEGIN:VEVENT
DTSTAMP:20260420T132751Z
DTSTART:20231105T130000Z
DTEND:20231106T030000Z
SUMMARY:BMHA Mid-Season Tilt 
LOCATION:265 Cannifton Road, Belleville, ON
END:VEVENT
END:VCALENDAR
