BEGIN:VCALENDAR
VERSION:2.0
METHOD:PUBLISH
BEGIN:VEVENT
DTSTAMP:20260426T025340Z
DTSTART:20231104T170000Z
DTEND:20231104T180000Z
SUMMARY:Lane Swim
LOCATION:265 Cannifton Rd., Belleville, ON K8N 4V8
END:VEVENT
END:VCALENDAR
