BEGIN:VCALENDAR
VERSION:2.0
METHOD:PUBLISH
BEGIN:VEVENT
DTSTAMP:20260422T054004Z
DTSTART:20231101T161500Z
DTEND:20231101T164500Z
SUMMARY:Cardio and Core
LOCATION:265 Cannifton Road, Belleville, ON
END:VEVENT
END:VCALENDAR
