BEGIN:VCALENDAR
VERSION:2.0
METHOD:PUBLISH
BEGIN:VEVENT
DTSTAMP:20260423T220608Z
DTSTART:20230627T130000Z
DTEND:20230628T015500Z
SUMMARY:Lane Swim - 9:00 - 9:55 a.m.
LOCATION:265 Cannifton Road, Belleville ON K8N 4V8
END:VEVENT
END:VCALENDAR
