BEGIN:VCALENDAR
VERSION:2.0
METHOD:PUBLISH
BEGIN:VEVENT
DTSTAMP:20260422T144309Z
DTSTART:20230621T173000Z
DTEND:20230621T180000Z
SUMMARY:Parkinson's Aquatic Therapy Fitness - 1:30-2:00pm
LOCATION:265 Cannifton Road, Belleville ON K8N 4V8
END:VEVENT
END:VCALENDAR
