BEGIN:VCALENDAR
VERSION:2.0
METHOD:PUBLISH
BEGIN:VEVENT
DTSTAMP:20260420T134049Z
DTSTART:20230621T170000Z
DTEND:20230621T173000Z
SUMMARY:Diaper Fit - 1:00-1:30pm
LOCATION:265 Cannifton Road, Belleville ON K8N 4V8
END:VEVENT
END:VCALENDAR
