BEGIN:VCALENDAR
VERSION:2.0
METHOD:PUBLISH
BEGIN:VEVENT
DTSTAMP:20260425T204759Z
DTSTART:20230619T160000Z
DTEND:20230619T164500Z
SUMMARY:Deep Water Aqua Fitness - 12:00-12:45pm
LOCATION:265 Cannifton Road, Belleville ON K8N 4V8
END:VEVENT
END:VCALENDAR
