BEGIN:VCALENDAR
VERSION:2.0
METHOD:PUBLISH
BEGIN:VEVENT
DTSTAMP:20260423T030636Z
DTSTART:20230616T211500Z
DTEND:20230616T230000Z
SUMMARY:Open Gym - 5:15-7:00pm
LOCATION:265 Cannifton Road, Belleville ON K8N 4V8
END:VEVENT
END:VCALENDAR
