BEGIN:VCALENDAR
VERSION:2.0
METHOD:PUBLISH
BEGIN:VEVENT
DTSTAMP:20260425T030428Z
DTSTART:20230615T171500Z
DTEND:20230615T190000Z
SUMMARY:Pickleball - Beginner /Intermediate 1:15pm-3:00pm
LOCATION:265 Cannifton Road, Belleville ON K8N 4V8
END:VEVENT
END:VCALENDAR
