BEGIN:VCALENDAR
VERSION:2.0
METHOD:PUBLISH
BEGIN:VEVENT
DTSTAMP:20260420T213436Z
DTSTART:20230610T181500Z
DTEND:20230610T191500Z
SUMMARY:Lane Swim - 2:15 - 3:15 p.m.
LOCATION:265 Cannifton Road, Belleville ON K8N 4V8
END:VEVENT
END:VCALENDAR
