BEGIN:VCALENDAR
VERSION:2.0
METHOD:PUBLISH
BEGIN:VEVENT
DTSTAMP:20260425T131609Z
DTSTART:20230606T193000Z
DTEND:20230606T211500Z
SUMMARY:Open Gym - 3:30-5:15pm
LOCATION:265 Cannifton Road, Belleville ON K8N 4V8
END:VEVENT
END:VCALENDAR
