BEGIN:VCALENDAR
VERSION:2.0
METHOD:PUBLISH
BEGIN:VEVENT
DTSTAMP:20260421T014325Z
DTSTART:20230604T170000Z
DTEND:20230604T180000Z
SUMMARY:Public Swim - 1:00 - 2:00 p.m. (Main Pool/Therapy &amp; Preschool Pool)
LOCATION:265 Cannifton Road, Belleville ON K8N 4V8
END:VEVENT
END:VCALENDAR
