BEGIN:VCALENDAR
VERSION:2.0
METHOD:PUBLISH
BEGIN:VEVENT
DTSTAMP:20260424T230416Z
DTSTART:20230518T171500Z
DTEND:20230518T190000Z
SUMMARY:Pickleball - Beginner /Intermediate 1:15pm-3:00pm
LOCATION:265 Cannifton Road, Belleville ON K8N 4V8
END:VEVENT
END:VCALENDAR
