BEGIN:VCALENDAR
VERSION:2.0
METHOD:PUBLISH
BEGIN:VEVENT
DTSTAMP:20260419T182500Z
DTSTART:20230517T230000Z
DTEND:20230518T004500Z
SUMMARY:Badminton - 7:00-8:45pm
LOCATION:265 Cannifton Road, Belleville ON K8N 4V8
END:VEVENT
END:VCALENDAR
