BEGIN:VCALENDAR
VERSION:2.0
METHOD:PUBLISH
BEGIN:VEVENT
DTSTAMP:20260423T192725Z
DTSTART:20230512T130000Z
DTEND:20230512T135000Z
SUMMARY:Aqua Fitness - 9:00-9:50am
LOCATION:265 Cannifton Road, Belleville ON K8N 4V8
END:VEVENT
END:VCALENDAR
