BEGIN:VCALENDAR
VERSION:2.0
METHOD:PUBLISH
BEGIN:VEVENT
DTSTAMP:20260424T032842Z
DTSTART:20230509T140000Z
DTEND:20230509T144500Z
SUMMARY:Joint Replacement Rehab (Therapy Fitness) - 10:00-10:45am
LOCATION:265 Cannifton Road, Belleville ON K8N 4V8
END:VEVENT
END:VCALENDAR
