BEGIN:VCALENDAR
VERSION:2.0
METHOD:PUBLISH
BEGIN:VEVENT
DTSTAMP:20260421T194140Z
DTSTART:20230322T190000Z
DTEND:20230322T200000Z
SUMMARY:Rehabilitation Swim - 3:00 - 4:00 p.m. (Therapy Pool)
LOCATION:265 Cannifton Road, Belleville ON K8N 4V8
END:VEVENT
END:VCALENDAR
