BEGIN:VCALENDAR
VERSION:2.0
METHOD:PUBLISH
BEGIN:VEVENT
DTSTAMP:20260424T034444Z
DTSTART:20230320T100000Z
DTEND:20230320T100000Z
SUMMARY:Pickleball  - Various Levels/Dates/Times
LOCATION:265 Cannifton Rd., Belleville, ON K8N 4V8
END:VEVENT
END:VCALENDAR
