BEGIN:VCALENDAR
VERSION:2.0
METHOD:PUBLISH
BEGIN:VEVENT
DTSTAMP:20260422T005529Z
DTSTART:20230316T100000Z
DTEND:20230316T100000Z
SUMMARY:Children's Programs (Various Programs)
LOCATION:265 Cannifton Road, Belleville ON K8N 4V8
END:VEVENT
END:VCALENDAR
