BEGIN:VCALENDAR
VERSION:2.0
METHOD:PUBLISH
BEGIN:VEVENT
DTSTAMP:20260420T192318Z
DTSTART:20230315T230000Z
DTEND:20230316T020000Z
SUMMARY:Belleville Senators vs. Utica Comets
LOCATION:265 Cannifton Rd., Belleville, ON K8N 4V8
END:VEVENT
END:VCALENDAR
