BEGIN:VCALENDAR
VERSION:2.0
METHOD:PUBLISH
BEGIN:VEVENT
DTSTAMP:20260425T025545Z
DTSTART:20230315T110000Z
DTEND:20230315T115500Z
SUMMARY:Lane Swim - 7:00 - 7:55 a.m.
LOCATION:265 Cannifton Road, Belleville ON K8N 4V8
END:VEVENT
END:VCALENDAR
