BEGIN:VCALENDAR
VERSION:2.0
METHOD:PUBLISH
BEGIN:VEVENT
DTSTAMP:20260422T065801Z
DTSTART:20230311T110000Z
DTEND:20230312T040000Z
SUMMARY:No Programs, Pool or Ice Rentals at the QSWC due to RV Show
LOCATION:265 Cannifton Road, Belleville ON K8N 4V8
END:VEVENT
END:VCALENDAR
