BEGIN:VCALENDAR
VERSION:2.0
METHOD:PUBLISH
BEGIN:VEVENT
DTSTAMP:20260420T091815Z
DTSTART:20230307T110000Z
DTEND:20230307T110000Z
SUMMARY:Pickleball  - Various Levels/Dates/Times
LOCATION:265 Cannifton Rd., Belleville, ON K8N 4V8
END:VEVENT
END:VCALENDAR
