BEGIN:VCALENDAR
VERSION:2.0
METHOD:PUBLISH
BEGIN:VEVENT
DTSTAMP:20260420T233656Z
DTSTART:20230306T160000Z
DTEND:20230306T170000Z
SUMMARY:Lane Swim - 11:00 a.m. - 12:00 p.m.
LOCATION:265 Cannifton Road, Belleville ON K8N 4V8
END:VEVENT
END:VCALENDAR
