BEGIN:VCALENDAR
VERSION:2.0
METHOD:PUBLISH
BEGIN:VEVENT
DTSTAMP:20260422T212148Z
DTSTART:20221103T130000Z
DTEND:20221103T200000Z
SUMMARY:50+ Centre Programs (Various Programs)
LOCATION:265 Cannifton Road, Belleville ON K8N 4V8
END:VEVENT
END:VCALENDAR
