BEGIN:VCALENDAR
VERSION:2.0
METHOD:PUBLISH
BEGIN:VEVENT
DTSTAMP:20260420T030344Z
DTSTART:20221101T140000Z
DTEND:20221101T145000Z
SUMMARY:Family Skating (Helmets Mandatory for all participants)
LOCATION:265 Cannifton Road, Belleville ON K8N 4V8
END:VEVENT
END:VCALENDAR
