BEGIN:VCALENDAR
VERSION:2.0
METHOD:PUBLISH
BEGIN:VEVENT
DTSTAMP:20260423T202627Z
DTSTART:20220824T140000Z
DTEND:20220824T145000Z
SUMMARY:Aqua Fitness
LOCATION:265 Cannifton Rd., Belleville, ON K8N 4G1
END:VEVENT
END:VCALENDAR
