BEGIN:VCALENDAR
VERSION:2.0
METHOD:PUBLISH
BEGIN:VEVENT
DTSTAMP:20260424T133332Z
DTSTART:20220823T211500Z
DTEND:20220823T220000Z
SUMMARY:Soccer Skills &amp; Drills (4-8yrs)
LOCATION:265 Cannifton Rd., Belleville, ON K8N 4V8
END:VEVENT
END:VCALENDAR
