BEGIN:VCALENDAR
VERSION:2.0
METHOD:PUBLISH
BEGIN:VEVENT
DTSTAMP:20260425T144323Z
DTSTART:20220823T124500Z
DTEND:20220823T140000Z
SUMMARY:Family Swim (Main Pool Only)
LOCATION:265 Cannifton Rd., Belleville, ON K8N 4V8
END:VEVENT
END:VCALENDAR
