BEGIN:VCALENDAR
VERSION:2.0
METHOD:PUBLISH
BEGIN:VEVENT
DTSTAMP:20260425T180105Z
DTSTART:20220822T201500Z
DTEND:20220822T230000Z
SUMMARY:Open Gym
LOCATION:265 Cannifton Rd., Belleville, ON K8N 4V8
END:VEVENT
END:VCALENDAR
