BEGIN:VCALENDAR
VERSION:2.0
METHOD:PUBLISH
BEGIN:VEVENT
DTSTAMP:20260425T032754Z
DTSTART:20220822T170000Z
DTEND:20220822T175000Z
SUMMARY:Arthritis &amp; Fibromyalgia Fitness
LOCATION:265 Cannifton Rd., Belleville, ON K8N 4G1
END:VEVENT
END:VCALENDAR
