BEGIN:VCALENDAR
VERSION:2.0
METHOD:PUBLISH
BEGIN:VEVENT
DTSTAMP:20260423T200706Z
DTSTART:20220822T124500Z
DTEND:20220822T151500Z
SUMMARY:Pickleball - Intermediate/Advanced
LOCATION:265 Cannifton Rd., Belleville, ON K8N 4V8
END:VEVENT
END:VCALENDAR
