BEGIN:VCALENDAR
VERSION:2.0
METHOD:PUBLISH
BEGIN:VEVENT
DTSTAMP:20260425T105747Z
DTSTART:20220818T124500Z
DTEND:20220818T140000Z
SUMMARY:Family Swim (Main Pool Only)
LOCATION:265 Cannifton Rd., Belleville, ON K8N 4V8
END:VEVENT
END:VCALENDAR
