BEGIN:VCALENDAR
VERSION:2.0
METHOD:PUBLISH
BEGIN:VEVENT
DTSTAMP:20260422T194242Z
DTSTART:20220802T190000Z
DTEND:20220802T201500Z
SUMMARY:Public Swim
LOCATION:265 Cannifton Rd., Belleville, ON K8N 4V8
END:VEVENT
END:VCALENDAR
