BEGIN:VCALENDAR
VERSION:2.0
METHOD:PUBLISH
BEGIN:VEVENT
DTSTAMP:20260421T133040Z
DTSTART:20211003T120000Z
DTEND:20211003T125500Z
SUMMARY:Lane Swim (Pre-registration required)
LOCATION:Quinte Sports &amp; Wellness Centre, 265 Cannifton Rd, Belleville, ON K8N 4V8
END:VEVENT
END:VCALENDAR
