BEGIN:VCALENDAR
VERSION:2.0
METHOD:PUBLISH
BEGIN:VEVENT
DTSTAMP:20260424T164741Z
DTSTART:20211002T120000Z
DTEND:20211002T130000Z
SUMMARY:Rehabilitation Swim (Pre-registration required)
LOCATION:Quinte Sports &amp; Wellness Centre, 265 Cannifton Rd, Belleville, ON K8N 4V8
END:VEVENT
END:VCALENDAR
