BEGIN:VCALENDAR
VERSION:2.0
METHOD:PUBLISH
BEGIN:VEVENT
DTSTAMP:20260420T063932Z
DTSTART:20210903T133000Z
DTEND:20210903T143000Z
SUMMARY:Older Adult Yoga
LOCATION:241 North Park Street, Belleville, ON 
END:VEVENT
END:VCALENDAR
