BEGIN:VCALENDAR
VERSION:2.0
METHOD:PUBLISH
BEGIN:VEVENT
DTSTAMP:20260421T222447Z
DTSTART:20241217T140000Z
DTEND:20241217T180000Z
SUMMARY:Sketch &amp; Swim
LOCATION:265 Cannifton Road, Belleville, ON K8N 4V8
END:VEVENT
END:VCALENDAR
