BEGIN:VCALENDAR
VERSION:2.0
METHOD:PUBLISH
BEGIN:VEVENT
DTSTAMP:20260423T032657Z
DTSTART:20241212T134500Z
DTEND:20241212T153000Z
SUMMARY:Pickleball (Beginner)
LOCATION:265 Cannifton Road, Belleville, ON K8N 4V8
END:VEVENT
END:VCALENDAR
