BEGIN:VCALENDAR
VERSION:2.0
METHOD:PUBLISH
BEGIN:VEVENT
DTSTAMP:20260423T081725Z
DTSTART:20241210T223000Z
DTEND:20241210T230000Z
SUMMARY:Preschool Play Zone (18 months to 5 Years)
LOCATION:265 Cannifton Road, Belleville, ON K8N 4V8
END:VEVENT
END:VCALENDAR
