BEGIN:VCALENDAR
VERSION:2.0
METHOD:PUBLISH
BEGIN:VEVENT
DTSTAMP:20260420T163732Z
DTSTART:20241121T134500Z
DTEND:20241121T144500Z
SUMMARY:Learn to Speak French - The Basics
LOCATION:265 Cannifton Road, Belleville, ON K8N 4V8
END:VEVENT
END:VCALENDAR
