BEGIN:VCALENDAR
VERSION:2.0
METHOD:PUBLISH
BEGIN:VEVENT
DTSTAMP:20260425T041301Z
DTSTART:20241116T150000Z
DTEND:20241116T190000Z
SUMMARY:Youth Room Drop-in (Grade 6-12)
LOCATION:265 Cannifton Road
END:VEVENT
END:VCALENDAR
