BEGIN:VCALENDAR
VERSION:2.0
METHOD:PUBLISH
BEGIN:VEVENT
DTSTAMP:20260425T041246Z
DTSTART:20241114T220000Z
DTEND:20241115T000000Z
SUMMARY:Youth Room Drop-in (Grade 6-12)
LOCATION:265 Cannifton Road
END:VEVENT
END:VCALENDAR
