BEGIN:VCALENDAR
VERSION:2.0
METHOD:PUBLISH
BEGIN:VEVENT
DTSTAMP:20260421T155124Z
DTSTART:20241112T150000Z
DTEND:20241112T160000Z
SUMMARY:Family Swim (Main Pool Only)
LOCATION:265 Cannifton Road, Belleville, ON
END:VEVENT
END:VCALENDAR
