BEGIN:VCALENDAR
VERSION:2.0
METHOD:PUBLISH
BEGIN:VEVENT
DTSTAMP:20260424T205935Z
DTSTART:20241106T181500Z
DTEND:20241106T200000Z
SUMMARY:Pickleball (Advanced)
LOCATION:265 Cannifton Road, Belleville, ON K8N 4V8
END:VEVENT
END:VCALENDAR
