BEGIN:VCALENDAR
VERSION:2.0
METHOD:PUBLISH
BEGIN:VEVENT
DTSTAMP:20260425T021642Z
DTSTART:20241102T140000Z
DTEND:20241102T160000Z
SUMMARY:Youth Room Drop-in (Grade 6-12)
LOCATION:265 Cannifton Road
END:VEVENT
END:VCALENDAR
