BEGIN:VCALENDAR
VERSION:2.0
METHOD:PUBLISH
BEGIN:VEVENT
DTSTAMP:20260420T175851Z
DTSTART:20241030T230000Z
DTEND:20241031T020000Z
SUMMARY:Belleville Senators vs. Providence Bruins
LOCATION:265 Cannifton Road, Belleville, ON
END:VEVENT
END:VCALENDAR
