BEGIN:VCALENDAR
VERSION:2.0
METHOD:PUBLISH
BEGIN:VEVENT
DTSTAMP:20260424T185708Z
DTSTART:20241030T171500Z
DTEND:20241030T190000Z
SUMMARY:Pickleball (Advanced)
LOCATION:265 Cannifton Road, Belleville, ON K8N 4V8
END:VEVENT
END:VCALENDAR
